BEGIN:VCALENDAR
VERSION:2.0
PRODID:-//মহানগর সার্বজনীন পূজা কমিটি - ECPv5.16.4//NONSGML v1.0//EN
CALSCALE:GREGORIAN
METHOD:PUBLISH
X-WR-CALNAME:মহানগর সার্বজনীন পূজা কমিটি
X-ORIGINAL-URL:https://www.mspc1978.org
X-WR-CALDESC:Events for মহানগর সার্বজনীন পূজা কমিটি
REFRESH-INTERVAL;VALUE=DURATION:PT1H
X-Robots-Tag:noindex
X-PUBLISHED-TTL:PT1H
BEGIN:VTIMEZONE
TZID:UTC
BEGIN:STANDARD
TZOFFSETFROM:+0000
TZOFFSETTO:+0000
TZNAME:UTC
DTSTART:20220101T000000
END:STANDARD
END:VTIMEZONE
BEGIN:VEVENT
DTSTART;VALUE=DATE:20240510
DTEND;VALUE=DATE:20240511
DTSTAMP:20260421T032225
CREATED:20240501T201727Z
LAST-MODIFIED:20240501T201925Z
UID:1190-1715299200-1715385599@www.mspc1978.org
SUMMARY:দ্বি-বার্ষিক সম্মেলন ২০২৪
DESCRIPTION:মহানগর সার্বজনীন পূজা কমিটির দ্বি-বার্ষিক সম্মেলন ২০২৪
URL:https://www.mspc1978.org/event/%e0%a6%b8%e0%a6%ae%e0%a7%8d%e0%a6%ae%e0%a7%87%e0%a6%b2%e0%a6%a8-%e0%a7%a8%e0%a7%a6%e0%a7%a8%e0%a7%aa/
LOCATION:শ্রীশ্রী ঢাকেশ্বরী জাতীয় মন্দির মেলাঙ্গন\, লালবাগ\, ঢাকা\, Bangladesh
CATEGORIES:সাংগঠনিক
ATTACH;FMTTYPE=image/jpeg:https://www.mspc1978.org/wp-content/uploads/2024/05/Untitled-1.jpg
ORGANIZER;CN="%E0%A6%AE%E0%A6%B9%E0%A6%BE%E0%A6%A8%E0%A6%97%E0%A6%B0%20%E0%A6%B8%E0%A6%BE%E0%A6%B0%E0%A7%8D%E0%A6%AC%E0%A6%9C%E0%A6%A8%E0%A7%80%E0%A6%A8%20%E0%A6%AA%E0%A7%82%E0%A6%9C%E0%A6%BE%20%E0%A6%95%E0%A6%AE%E0%A6%BF%E0%A6%9F%E0%A6%BF":MAILTO:info@mspc1978.org
END:VEVENT
BEGIN:VEVENT
DTSTART;TZID=UTC:20231020T090000
DTEND;TZID=UTC:20231024T190000
DTSTAMP:20260421T032225
CREATED:20230521T221927Z
LAST-MODIFIED:20230521T222427Z
UID:937-1697792400-1698174000@www.mspc1978.org
SUMMARY:শারদীয় দুর্গোৎসব ১৪৩০
DESCRIPTION:মহানগর কেন্দ্রীয় পূজা মণ্ডপে ৫ দিনব্যাপী শারদীয় দুর্গোৎসব
URL:https://www.mspc1978.org/event/%e0%a6%b6%e0%a6%be%e0%a6%b0%e0%a6%a6%e0%a7%80%e0%a7%9f-%e0%a6%a6%e0%a7%81%e0%a6%b0%e0%a7%8d%e0%a6%97%e0%a7%8b%e0%a7%8e%e0%a6%b8%e0%a6%ac-%e0%a7%a7%e0%a7%aa%e0%a7%a9%e0%a7%a6/
LOCATION:শ্রীশ্রী ঢাকেশ্বরী জাতীয় মন্দির মেলাঙ্গন\, লালবাগ\, ঢাকা\, Bangladesh
CATEGORIES:উৎসব,পূজা
ATTACH;FMTTYPE=image/jpeg:https://www.mspc1978.org/wp-content/uploads/2023/05/unnamed-file-1.jpg
ORGANIZER;CN="%E0%A6%AE%E0%A6%B9%E0%A6%BE%E0%A6%A8%E0%A6%97%E0%A6%B0%20%E0%A6%B8%E0%A6%BE%E0%A6%B0%E0%A7%8D%E0%A6%AC%E0%A6%9C%E0%A6%A8%E0%A7%80%E0%A6%A8%20%E0%A6%AA%E0%A7%82%E0%A6%9C%E0%A6%BE%20%E0%A6%95%E0%A6%AE%E0%A6%BF%E0%A6%9F%E0%A6%BF":MAILTO:info@mspc1978.org
END:VEVENT
BEGIN:VEVENT
DTSTART;TZID=UTC:20231014T050000
DTEND;TZID=UTC:20231014T080000
DTSTAMP:20260421T032225
CREATED:20230521T220718Z
LAST-MODIFIED:20230521T220901Z
UID:933-1697259600-1697270400@www.mspc1978.org
SUMMARY:শারদীয় শুভ মহালয়া ১৪৩০
DESCRIPTION:শারদীয় দুর্গোৎসব ১৪২৯ এ দেবীপক্ষের সূচনায় শুভ মহালয়ার বিশেষ অনুষ্ঠান
URL:https://www.mspc1978.org/event/%e0%a6%b6%e0%a6%be%e0%a6%b0%e0%a6%a6%e0%a7%80%e0%a7%9f-%e0%a6%b6%e0%a7%81%e0%a6%ad-%e0%a6%ae%e0%a6%b9%e0%a6%be%e0%a6%b2%e0%a7%9f%e0%a6%be-%e0%a7%a7%e0%a7%aa%e0%a7%a9%e0%a7%a6/
LOCATION:শ্রীশ্রী ঢাকেশ্বরী জাতীয় মন্দির মেলাঙ্গন\, লালবাগ\, ঢাকা\, Bangladesh
CATEGORIES:উৎসব
ATTACH;FMTTYPE=image/jpeg:https://www.mspc1978.org/wp-content/uploads/2023/05/unnamed-file.jpg
ORGANIZER;CN="%E0%A6%AE%E0%A6%B9%E0%A6%BE%E0%A6%A8%E0%A6%97%E0%A6%B0%20%E0%A6%B8%E0%A6%BE%E0%A6%B0%E0%A7%8D%E0%A6%AC%E0%A6%9C%E0%A6%A8%E0%A7%80%E0%A6%A8%20%E0%A6%AA%E0%A7%82%E0%A6%9C%E0%A6%BE%20%E0%A6%95%E0%A6%AE%E0%A6%BF%E0%A6%9F%E0%A6%BF":MAILTO:info@mspc1978.org
END:VEVENT
BEGIN:VEVENT
DTSTART;TZID=UTC:20230906T070000
DTEND;TZID=UTC:20230906T220000
DTSTAMP:20260421T032225
CREATED:20230521T215244Z
LAST-MODIFIED:20230521T215244Z
UID:930-1693983600-1694037600@www.mspc1978.org
SUMMARY:জন্মাষ্টমী উৎসব ২০২৩
DESCRIPTION:কেন্দ্রীয় জন্মাষ্টমী উৎসব ২০২৩
URL:https://www.mspc1978.org/event/%e0%a6%9c%e0%a6%a8%e0%a7%8d%e0%a6%ae%e0%a6%be%e0%a6%b7%e0%a7%8d%e0%a6%9f%e0%a6%ae%e0%a7%80-%e0%a6%89%e0%a7%8e%e0%a6%b8%e0%a6%ac-%e0%a7%a8%e0%a7%a6%e0%a7%a8%e0%a7%a9/
LOCATION:শ্রীশ্রী ঢাকেশ্বরী জাতীয় মন্দির মেলাঙ্গন\, লালবাগ\, ঢাকা\, Bangladesh
CATEGORIES:উৎসব,পূজা,বিশেষ অনুষ্ঠান
ATTACH;FMTTYPE=image/jpeg:https://www.mspc1978.org/wp-content/uploads/2023/05/ss.jpg
ORGANIZER;CN="%E0%A6%AE%E0%A6%B9%E0%A6%BE%E0%A6%A8%E0%A6%97%E0%A6%B0%20%E0%A6%B8%E0%A6%BE%E0%A6%B0%E0%A7%8D%E0%A6%AC%E0%A6%9C%E0%A6%A8%E0%A7%80%E0%A6%A8%20%E0%A6%AA%E0%A7%82%E0%A6%9C%E0%A6%BE%20%E0%A6%95%E0%A6%AE%E0%A6%BF%E0%A6%9F%E0%A6%BF":MAILTO:info@mspc1978.org
END:VEVENT
BEGIN:VEVENT
DTSTART;TZID=UTC:20230627T090000
DTEND;TZID=UTC:20230627T180000
DTSTAMP:20260421T032225
CREATED:20230621T085503Z
LAST-MODIFIED:20230621T085827Z
UID:1155-1687856400-1687888800@www.mspc1978.org
SUMMARY:উল্টো রথযাত্রা উদ্বোধনী অনুষ্ঠান ২০২৩
DESCRIPTION:মহানগর কেন্দ্রীয় পূজা মণ্ডপে উল্টো রথযাত্রা উদ্বোধনী অনুষ্ঠান
URL:https://www.mspc1978.org/event/%e0%a6%89%e0%a6%b2%e0%a7%8d%e0%a6%9f%e0%a7%8b-%e0%a6%b0%e0%a6%a5%e0%a6%af%e0%a6%be%e0%a6%a4%e0%a7%8d%e0%a6%b0%e0%a6%be-%e0%a7%a8%e0%a7%a6%e0%a7%a8%e0%a7%a9/
LOCATION:শ্রীশ্রী ঢাকেশ্বরী জাতীয় মন্দির মেলাঙ্গন\, লালবাগ\, ঢাকা\, Bangladesh
CATEGORIES:উৎসব,পূজা
ATTACH;FMTTYPE=image/jpeg:https://www.mspc1978.org/wp-content/uploads/2023/06/Untitled-1.jpg
ORGANIZER;CN="%E0%A6%AE%E0%A6%B9%E0%A6%BE%E0%A6%A8%E0%A6%97%E0%A6%B0%20%E0%A6%B8%E0%A6%BE%E0%A6%B0%E0%A7%8D%E0%A6%AC%E0%A6%9C%E0%A6%A8%E0%A7%80%E0%A6%A8%20%E0%A6%AA%E0%A7%82%E0%A6%9C%E0%A6%BE%20%E0%A6%95%E0%A6%AE%E0%A6%BF%E0%A6%9F%E0%A6%BF":MAILTO:info@mspc1978.org
END:VEVENT
BEGIN:VEVENT
DTSTART;TZID=UTC:20230620T150000
DTEND;TZID=UTC:20230620T180000
DTSTAMP:20260421T032225
CREATED:20230521T204338Z
LAST-MODIFIED:20230521T210313Z
UID:912-1687273200-1687284000@www.mspc1978.org
SUMMARY:রথযাত্রা বরণ ২০২৩
DESCRIPTION:মহানগর কেন্দ্রীয় পূজা মণ্ডপে রথযাত্রা বরণ অনুষ্ঠান
URL:https://www.mspc1978.org/event/%e0%a6%b0%e0%a6%a5%e0%a6%af%e0%a6%be%e0%a6%a4%e0%a7%8d%e0%a6%b0%e0%a6%be-%e0%a6%ac%e0%a6%b0%e0%a6%a3-%e0%a7%a8%e0%a7%a6%e0%a7%a8%e0%a7%a9/
LOCATION:শ্রীশ্রী ঢাকেশ্বরী জাতীয় মন্দির মেলাঙ্গন\, লালবাগ\, ঢাকা\, Bangladesh
CATEGORIES:উৎসব,পূজা
ATTACH;FMTTYPE=image/jpeg:https://www.mspc1978.org/wp-content/uploads/2023/05/Untitled-1.jpg
ORGANIZER;CN="%E0%A6%AE%E0%A6%B9%E0%A6%BE%E0%A6%A8%E0%A6%97%E0%A6%B0%20%E0%A6%B8%E0%A6%BE%E0%A6%B0%E0%A7%8D%E0%A6%AC%E0%A6%9C%E0%A6%A8%E0%A7%80%E0%A6%A8%20%E0%A6%AA%E0%A7%82%E0%A6%9C%E0%A6%BE%20%E0%A6%95%E0%A6%AE%E0%A6%BF%E0%A6%9F%E0%A6%BF":MAILTO:info@mspc1978.org
END:VEVENT
BEGIN:VEVENT
DTSTART;TZID=UTC:20221001T090000
DTEND;TZID=UTC:20221005T190000
DTSTAMP:20260421T032225
CREATED:20220828T213909Z
LAST-MODIFIED:20220828T213909Z
UID:436-1664614800-1664996400@www.mspc1978.org
SUMMARY:শারদীয় দুর্গোৎসব ১৪২৯
DESCRIPTION:মহানগর কেন্দ্রীয় পূজা মণ্ডপে ৫ দিনব্যাপী শারদীয় দুর্গোৎসব
URL:https://www.mspc1978.org/event/%e0%a6%b6%e0%a6%be%e0%a6%b0%e0%a6%a6%e0%a7%80%e0%a7%9f-%e0%a6%a6%e0%a7%81%e0%a6%b0%e0%a7%8d%e0%a6%97%e0%a7%8b%e0%a7%8e%e0%a6%b8%e0%a6%ac-%e0%a7%a7%e0%a7%aa%e0%a7%a8%e0%a7%af/
LOCATION:শ্রীশ্রী ঢাকেশ্বরী জাতীয় মন্দির মেলাঙ্গন\, লালবাগ\, ঢাকা\, Bangladesh
CATEGORIES:উৎসব,পূজা
ATTACH;FMTTYPE=image/jpeg:https://www.mspc1978.org/wp-content/uploads/2022/08/durgautsav-featured-image.jpg
ORGANIZER;CN="%E0%A6%AE%E0%A6%B9%E0%A6%BE%E0%A6%A8%E0%A6%97%E0%A6%B0%20%E0%A6%B8%E0%A6%BE%E0%A6%B0%E0%A7%8D%E0%A6%AC%E0%A6%9C%E0%A6%A8%E0%A7%80%E0%A6%A8%20%E0%A6%AA%E0%A7%82%E0%A6%9C%E0%A6%BE%20%E0%A6%95%E0%A6%AE%E0%A6%BF%E0%A6%9F%E0%A6%BF":MAILTO:info@mspc1978.org
END:VEVENT
BEGIN:VEVENT
DTSTART;TZID=UTC:20220925T050000
DTEND;TZID=UTC:20220925T050000
DTSTAMP:20260421T032225
CREATED:20220828T211506Z
LAST-MODIFIED:20220828T212712Z
UID:426-1664082000-1664082000@www.mspc1978.org
SUMMARY:শারদীয় শুভ মহালয়া ১৪২৯
DESCRIPTION:শারদীয় দুর্গোৎসব ১৪২৯ এ দেবীপক্ষের সূচনায় শুভ মহালয়ার বিশেষ অনুষ্ঠান
URL:https://www.mspc1978.org/event/%e0%a6%b6%e0%a6%be%e0%a6%b0%e0%a6%a6%e0%a7%80%e0%a7%9f-%e0%a6%b6%e0%a7%81%e0%a6%ad-%e0%a6%ae%e0%a6%b9%e0%a6%be%e0%a6%b2%e0%a7%9f%e0%a6%be-%e0%a7%a7%e0%a7%aa%e0%a7%a8%e0%a7%af/
LOCATION:শ্রীশ্রী ঢাকেশ্বরী জাতীয় মন্দির মেলাঙ্গন\, লালবাগ\, ঢাকা\, Bangladesh
CATEGORIES:উৎসব
ATTACH;FMTTYPE=image/jpeg:https://www.mspc1978.org/wp-content/uploads/2022/08/Mahalaya-featured-image.jpg
ORGANIZER;CN="%E0%A6%AE%E0%A6%B9%E0%A6%BE%E0%A6%A8%E0%A6%97%E0%A6%B0%20%E0%A6%B8%E0%A6%BE%E0%A6%B0%E0%A7%8D%E0%A6%AC%E0%A6%9C%E0%A6%A8%E0%A7%80%E0%A6%A8%20%E0%A6%AA%E0%A7%82%E0%A6%9C%E0%A6%BE%20%E0%A6%95%E0%A6%AE%E0%A6%BF%E0%A6%9F%E0%A6%BF":MAILTO:info@mspc1978.org
END:VEVENT
BEGIN:VEVENT
DTSTART;TZID=UTC:20220902T160000
DTEND;TZID=UTC:20220902T190000
DTSTAMP:20260421T032225
CREATED:20220828T213049Z
LAST-MODIFIED:20220828T213514Z
UID:433-1662134400-1662145200@www.mspc1978.org
SUMMARY:সি. আর. দত্ত বীরউত্তম স্মরণ
DESCRIPTION:প্রয়াত সেক্টর কমান্ডার মেজর জেনারেল সি. আর. দত্ত বীরউত্তম’র ২য় মৃত্যুবার্ষিকীতে স্মরণ সভা
URL:https://www.mspc1978.org/event/%e0%a6%b8%e0%a7%87%e0%a6%95%e0%a7%8d%e0%a6%9f%e0%a6%b0-%e0%a6%95%e0%a6%ae%e0%a6%be%e0%a6%a8%e0%a7%8d%e0%a6%a1%e0%a6%be%e0%a6%b0-%e0%a6%ae%e0%a7%87%e0%a6%9c%e0%a6%b0-%e0%a6%9c%e0%a7%87%e0%a6%a8/
LOCATION:শ্রীশ্রী ঢাকেশ্বরী জাতীয় মন্দির মেলাঙ্গন\, লালবাগ\, ঢাকা\, Bangladesh
CATEGORIES:বিশেষ অনুষ্ঠান
ATTACH;FMTTYPE=image/jpeg:https://www.mspc1978.org/wp-content/uploads/2022/08/CR-Dutta-featured-image.jpg
ORGANIZER;CN="%E0%A6%AE%E0%A6%B9%E0%A6%BE%E0%A6%A8%E0%A6%97%E0%A6%B0%20%E0%A6%B8%E0%A6%BE%E0%A6%B0%E0%A7%8D%E0%A6%AC%E0%A6%9C%E0%A6%A8%E0%A7%80%E0%A6%A8%20%E0%A6%AA%E0%A7%82%E0%A6%9C%E0%A6%BE%20%E0%A6%95%E0%A6%AE%E0%A6%BF%E0%A6%9F%E0%A6%BF":MAILTO:info@mspc1978.org
END:VEVENT
END:VCALENDAR